BEGIN:VCALENDAR
VERSION:2.0
PRODID:-//Plone.org//NONSGML plone.app.event//EN
X-WR-TIMEZONE:Europe/Berlin
BEGIN:VEVENT
SUMMARY:Blick in die Vergangenheit: Die minoische Gesellschaft in Kreta
DTSTART;TZID=Europe/Berlin:20180612T180000
DTEND;TZID=Europe/Berlin:20180612T200000
DTSTAMP:20260424T175926Z
UID:433e4934774943a286c6d9c0b6e295a9@www.uni-marburg.de
ATTENDEE;CN="Referierende: Prof. Dr. em. Beat Schneider (Bern), Vortragsle
 itung: Dr. Kerstin Bach";ROLE=REQ-PARTICIPANT:Referierende: Prof. Dr. em. 
 Beat Schneider (Bern), Vortragsleitung: Dr. Kerstin Bach
CREATED:20180502T102210Z
DESCRIPTION:https://www.uni-marburg.de/de/aktuelles/events/termine-2-quart
 al-2018/die-minoische-gesellschaft-in-kreta\nAm Dienstag\, den 12.06.2018 
 findet um 18 Uhr bis ca. 20 Uhr im kleinen Hörsaal der Geographie der Vor
 trag "Blick in die Vergangenheit: Die minoische Gesellschaft in Kreta" der
  Vortragsreihe "Nachhaltigkeit und Gesellschaftsformen aus kritisch Geogra
 phischer Sicht" statt.
LAST-MODIFIED:20180502T102241Z
LOCATION:Kleiner Hörsaal\, Deutschhausstraße 10
URL:https://www.uni-marburg.de/de/aktuelles/events/termine-2-quartal-2018/
 die-minoische-gesellschaft-in-kreta
END:VEVENT
BEGIN:VTIMEZONE
TZID:Europe/Berlin
X-LIC-LOCATION:Europe/Berlin
BEGIN:DAYLIGHT
DTSTART:20180325T030000
TZNAME:CEST
TZOFFSETFROM:+0100
TZOFFSETTO:+0200
END:DAYLIGHT
END:VTIMEZONE
END:VCALENDAR
