BEGIN:VCALENDAR
VERSION:2.0
PRODID:-//Plone.org//NONSGML plone.app.event//EN
X-WR-TIMEZONE:Europe/Berlin
BEGIN:VEVENT
SUMMARY:Politische Spiritualität und demokratischer Frieden. Workshop bei
  Portal Ideengeschichte
DTSTART;TZID=Europe/Berlin:20180524T160000
DTEND;TZID=Europe/Berlin:20180524T190000
DTSTAMP:20260424T172426Z
UID:46ae7cfeb4704c53b9f795f39e54ad63@www.uni-marburg.de
CREATED:20180413T112905Z
DESCRIPTION:https://www.uni-marburg.de/de/aktuelles/events/termine-2-quart
 al-2018/gandhibjoerkmanworkshop\nÜber Rut Björkman und ihre Nähe zu Mah
 atma Gandhi in einem Workshop des Arbeitskreises "Spiritualität und Mysti
 k im 20. Jahrhundert" von Portal Ideengeschichte.
LAST-MODIFIED:20180413T112935Z
LOCATION:Marburg\, Philipps-Universität Marburg\, Wilhelm-Röpke-Straße 
 6 (PhilFak)\, G-Gang\, Raum 00038
URL:https://www.uni-marburg.de/de/aktuelles/events/termine-2-quartal-2018/
 gandhibjoerkmanworkshop
END:VEVENT
BEGIN:VTIMEZONE
TZID:Europe/Berlin
X-LIC-LOCATION:Europe/Berlin
BEGIN:DAYLIGHT
DTSTART:20180325T030000
TZNAME:CEST
TZOFFSETFROM:+0100
TZOFFSETTO:+0200
END:DAYLIGHT
END:VTIMEZONE
END:VCALENDAR
