BEGIN:VCALENDAR
VERSION:2.0
PRODID:-//Plone.org//NONSGML plone.app.event//EN
X-WR-TIMEZONE:Europe/Berlin
BEGIN:VEVENT
SUMMARY:Luthers (anderes) Christusbild
DTSTART;TZID=Europe/Berlin:20180422T110000
DTEND;TZID=Europe/Berlin:20180422T120000
DTSTAMP:20260424T190529Z
UID:2ee8ea002d97400597dda0394b3fd597@www.uni-marburg.de
ATTENDEE;CN="Prof. Dr. Claus-Dieter Osthövener";ROLE=REQ-PARTICIPANT:Prof
 . Dr. Claus-Dieter Osthövener
ATTENDEE;CN="Prof. Dr. Thomas Erne";ROLE=REQ-PARTICIPANT:Prof. Dr. Thomas 
 Erne
ATTENDEE;CN="Probst Helmut Wöllenstein";ROLE=REQ-PARTICIPANT:Probst Helmu
 t Wöllenstein
CREATED:20180419T133139Z
DESCRIPTION:https://www.uni-marburg.de/de/aktuelles/events/termine-2-quart
 al-2018/gottesdienst\nGottesdienst zur Semestereröffnung mit Einführung 
 von Prof. Dr. Thomas Erne als Universitätsprediger durch Propst Helmut W
 öllenstein
LAST-MODIFIED:20180419T133245Z
LOCATION:Universitätskirche\, Reitgasse 2\, 35037 Marburg
URL:https://www.uni-marburg.de/de/aktuelles/events/termine-2-quartal-2018/
 gottesdienst
END:VEVENT
BEGIN:VTIMEZONE
TZID:Europe/Berlin
X-LIC-LOCATION:Europe/Berlin
BEGIN:DAYLIGHT
DTSTART:20180325T030000
TZNAME:CEST
TZOFFSETFROM:+0100
TZOFFSETTO:+0200
END:DAYLIGHT
END:VTIMEZONE
END:VCALENDAR
