BEGIN:VCALENDAR
VERSION:2.0
PRODID:-//Plone.org//NONSGML plone.app.event//EN
X-WR-TIMEZONE:Europe/Berlin
BEGIN:VEVENT
SUMMARY:Hochschulwahlen
DTSTART;VALUE=DATE:20180626
DTEND;VALUE=DATE:20180629
DTSTAMP:20260424T190528Z
UID:02cf0b35c886463db492d75cb4c9ba01@www.uni-marburg.de
CREATED:20180621T074756Z
DESCRIPTION:https://www.uni-marburg.de/de/aktuelles/events/termine-2-quart
 al-2018/hsw-2018\nMachen Sie von Ihrem Recht Gebrauch und gehen Sie wähle
 n!
LAST-MODIFIED:20240109T133337Z
LOCATION:Wahllokale der UMR
URL:https://www.uni-marburg.de/de/aktuelles/events/termine-2-quartal-2018/
 hsw-2018
END:VEVENT
END:VCALENDAR
