BEGIN:VCALENDAR
VERSION:2.0
PRODID:-//Plone.org//NONSGML plone.app.event//EN
X-WR-TIMEZONE:Europe/Berlin
BEGIN:VEVENT
SUMMARY:Opfer(verbände) und Anerkennungsdynamiken in Ost- und Westdeutsch
 land (1945-1975)
DTSTART;TZID=Europe/Berlin:20180425T161500
DTEND;TZID=Europe/Berlin:20180425T174500
DTSTAMP:20260424T211200Z
UID:c2847a0edb884d6cbf5e5d80e91f9022@www.uni-marburg.de
ATTENDEE;CN="Frau Ulrika Mientus (Philipps-Universität Marburg)";ROLE=REQ
 -PARTICIPANT:Frau Ulrika Mientus (Philipps-Universität Marburg)
CREATED:20180423T115049Z
DESCRIPTION:https://www.uni-marburg.de/de/aktuelles/events/termine-2-quart
 al-2018/icwc_monatskolloquium_april_2018\nVortrag
LAST-MODIFIED:20180423T115139Z
LOCATION:Landgrafenhaus\, 3. Stock in den Räumen des ICWC
URL:https://www.uni-marburg.de/de/aktuelles/events/termine-2-quartal-2018/
 icwc_monatskolloquium_april_2018
END:VEVENT
BEGIN:VTIMEZONE
TZID:Europe/Berlin
X-LIC-LOCATION:Europe/Berlin
BEGIN:DAYLIGHT
DTSTART:20180325T030000
TZNAME:CEST
TZOFFSETFROM:+0100
TZOFFSETTO:+0200
END:DAYLIGHT
END:VTIMEZONE
END:VCALENDAR
