BEGIN:VCALENDAR
VERSION:2.0
PRODID:-//Plone.org//NONSGML plone.app.event//EN
X-WR-TIMEZONE:Europe/Berlin
BEGIN:VEVENT
SUMMARY:Australian War Crimes Trials after WWII
DTSTART;TZID=Europe/Berlin:20180522T161500
DTEND;TZID=Europe/Berlin:20180522T174500
DTSTAMP:20260424T154431Z
UID:cba337e6bc0a4d82b247548375bbccae@www.uni-marburg.de
ATTENDEE;CN="Narrelle Morris (Curtis Law School, Australien)";ROLE=REQ-PAR
 TICIPANT:Narrelle Morris (Curtis Law School, Australien)
CREATED:20180516T110443Z
DESCRIPTION:https://www.uni-marburg.de/de/aktuelles/events/termine-2-quart
 al-2018/icwc_monatskolloquium_mai2018\nVortrag
LAST-MODIFIED:20180516T110519Z
LOCATION:Landgrafenhaus\, 3. Stock in den Räumen des ICWC
URL:https://www.uni-marburg.de/de/aktuelles/events/termine-2-quartal-2018/
 icwc_monatskolloquium_mai2018
END:VEVENT
BEGIN:VTIMEZONE
TZID:Europe/Berlin
X-LIC-LOCATION:Europe/Berlin
BEGIN:DAYLIGHT
DTSTART:20180325T030000
TZNAME:CEST
TZOFFSETFROM:+0100
TZOFFSETTO:+0200
END:DAYLIGHT
END:VTIMEZONE
END:VCALENDAR
