BEGIN:VCALENDAR
VERSION:2.0
PRODID:-//Plone.org//NONSGML plone.app.event//EN
X-WR-TIMEZONE:Europe/Berlin
BEGIN:VEVENT
SUMMARY:Das Jahresgespräch: Workshop für Führungskräfte
DTSTART;TZID=Europe/Berlin:20180626T083000
DTEND;TZID=Europe/Berlin:20180626T133000
DTSTAMP:20260424T223852Z
UID:8b5e07f38efa4e44a993781d302908e7@www.uni-marburg.de
ATTENDEE;CN="Oliver Leibrecht (www.euton.de)";ROLE=REQ-PARTICIPANT:Oliver 
 Leibrecht (www.euton.de)
CREATED:20180118T114850Z
DESCRIPTION:https://www.uni-marburg.de/de/aktuelles/events/termine-2-quart
 al-2018/jahresgespraech_fk_180206\n
LAST-MODIFIED:20180118T115303Z
LOCATION:Lahntal - Raum wird noch bekannt gegeben
URL:https://www.uni-marburg.de/de/aktuelles/events/termine-2-quartal-2018/
 jahresgespraech_fk_180206
END:VEVENT
BEGIN:VTIMEZONE
TZID:Europe/Berlin
X-LIC-LOCATION:Europe/Berlin
BEGIN:DAYLIGHT
DTSTART:20180325T030000
TZNAME:CEST
TZOFFSETFROM:+0100
TZOFFSETTO:+0200
END:DAYLIGHT
END:VTIMEZONE
END:VCALENDAR
