BEGIN:VCALENDAR
VERSION:2.0
PRODID:-//Plone.org//NONSGML plone.app.event//EN
X-WR-TIMEZONE:Europe/Berlin
BEGIN:VEVENT
SUMMARY:ENTFÄLLT: Das Jahresgespräch: Workshop insbesondere für Mitarbe
 iter/innen in Sandwichpositionen
DTSTART;TZID=Europe/Berlin:20180621T083000
DTEND;TZID=Europe/Berlin:20180621T133000
DTSTAMP:20260425T055940Z
UID:53f74b0c6e664950a8d17cbe42f77dc2@www.uni-marburg.de
ATTENDEE;CN="Oliver Leibrecht (www.euton.de)";ROLE=REQ-PARTICIPANT:Oliver 
 Leibrecht (www.euton.de)
CREATED:20180118T114850Z
DESCRIPTION:https://www.uni-marburg.de/de/aktuelles/events/termine-2-quart
 al-2018/jahresgespraechesandwich_180201\n
LAST-MODIFIED:20180611T104147Z
LOCATION:B | 02\, Biegenstr. 10\, Raum 02 008
URL:https://www.uni-marburg.de/de/aktuelles/events/termine-2-quartal-2018/
 jahresgespraechesandwich_180201
END:VEVENT
BEGIN:VTIMEZONE
TZID:Europe/Berlin
X-LIC-LOCATION:Europe/Berlin
BEGIN:DAYLIGHT
DTSTART:20180325T030000
TZNAME:CEST
TZOFFSETFROM:+0100
TZOFFSETTO:+0200
END:DAYLIGHT
END:VTIMEZONE
END:VCALENDAR
