BEGIN:VCALENDAR
VERSION:2.0
PRODID:-//Plone.org//NONSGML plone.app.event//EN
X-WR-TIMEZONE:Europe/Berlin
BEGIN:VEVENT
SUMMARY:Lebenslanges Lernen als gesellschaftliche Norm und öffentliche Ge
 staltungsaufgabe
DTSTART;TZID=Europe/Berlin:20180530T201500
DTEND;TZID=Europe/Berlin:20180530T214500
DTSTAMP:20260424T205454Z
UID:e2d7cc8f114c4d0f8cf08699c42dfcca@www.uni-marburg.de
ATTENDEE;CN="Prof. Dr. Wolfgang Seitter";ROLE=REQ-PARTICIPANT:Prof. Dr. Wo
 lfgang Seitter
CREATED:20180215T141458Z
DESCRIPTION:https://www.uni-marburg.de/de/aktuelles/events/termine-2-quart
 al-2018/lebenslanges-lernen\nStudium Generale im SoSe 2018 an der Philipps
 -Universität Marburg
LAST-MODIFIED:20180215T145254Z
LOCATION:Audimax\, Hörsaalgebäude\, Biegenstr. 14
URL:https://www.uni-marburg.de/de/aktuelles/events/termine-2-quartal-2018/
 lebenslanges-lernen
END:VEVENT
BEGIN:VTIMEZONE
TZID:Europe/Berlin
X-LIC-LOCATION:Europe/Berlin
BEGIN:DAYLIGHT
DTSTART:20180325T030000
TZNAME:CEST
TZOFFSETFROM:+0100
TZOFFSETTO:+0200
END:DAYLIGHT
END:VTIMEZONE
END:VCALENDAR
