BEGIN:VCALENDAR
VERSION:2.0
PRODID:-//Plone.org//NONSGML plone.app.event//EN
X-WR-TIMEZONE:Europe/Berlin
BEGIN:VEVENT
SUMMARY:Lectio Philippina 2018 - „Nachrichten vom Rande des Universums
 “
DTSTART;TZID=Europe/Berlin:20180605T190000
DTSTAMP:20260424T154543Z
UID:1fd8da7ab8cb4f9da957be7e2b847997@www.uni-marburg.de
ATTENDEE;CN="Prof. Dr. Harald Lesch vom Institut für Astronomie und Astro
 physik der LMU München";ROLE=REQ-PARTICIPANT:Prof. Dr. Harald Lesch vom I
 nstitut für Astronomie und Astrophysik der LMU München
CREATED:20180509T133819Z
DESCRIPTION:https://www.uni-marburg.de/de/aktuelles/events/termine-2-quart
 al-2018/lectio-philippina-2018-nachrichten-vom-rande-des-universums\n
LAST-MODIFIED:20180509T133849Z
LOCATION:Universitätskirche Marburg\, Reitgasse 1
URL:https://www.uni-marburg.de/de/aktuelles/events/termine-2-quartal-2018/
 lectio-philippina-2018-nachrichten-vom-rande-des-universums
END:VEVENT
BEGIN:VTIMEZONE
TZID:Europe/Berlin
X-LIC-LOCATION:Europe/Berlin
BEGIN:DAYLIGHT
DTSTART:20180325T030000
TZNAME:CEST
TZOFFSETFROM:+0100
TZOFFSETTO:+0200
END:DAYLIGHT
END:VTIMEZONE
END:VCALENDAR
