BEGIN:VCALENDAR
VERSION:2.0
PRODID:-//Plone.org//NONSGML plone.app.event//EN
X-WR-TIMEZONE:Europe/Berlin
BEGIN:VEVENT
SUMMARY:“Halide-Catalysed C-H Amination Reactions”
DTSTART;TZID=Europe/Berlin:20180625T111500
DTSTAMP:20260424T153713Z
UID:99f602c2a4a24c4da9f6e22d10ef0249@www.uni-marburg.de
ATTENDEE;CN="Prof. Dr. Kilian Muñiz,	Institute of Chemical Research of Ca
 talonia (ICIQ), The Barcelona Institute of Science and Technology";ROLE=RE
 Q-PARTICIPANT:Prof. Dr. Kilian Muñiz,	Institute of Chemical Research of C
 atalonia (ICIQ), The Barcelona Institute of Science and Technology
CREATED:20180518T105203Z
DESCRIPTION:https://www.uni-marburg.de/de/aktuelles/events/termine-2-quart
 al-2018/ockmuniz\nKolloquium für Organische Chemie und Chemische Biologie
LAST-MODIFIED:20180518T105729Z
LOCATION:Fachbereich Chemie\, Hörsaalgebäude\, HS C
URL:https://www.uni-marburg.de/de/aktuelles/events/termine-2-quartal-2018/
 ockmuniz
END:VEVENT
BEGIN:VTIMEZONE
TZID:Europe/Berlin
X-LIC-LOCATION:Europe/Berlin
BEGIN:DAYLIGHT
DTSTART:20180325T030000
TZNAME:CEST
TZOFFSETFROM:+0100
TZOFFSETTO:+0200
END:DAYLIGHT
END:VTIMEZONE
END:VCALENDAR
