BEGIN:VCALENDAR
VERSION:2.0
PRODID:-//Plone.org//NONSGML plone.app.event//EN
X-WR-TIMEZONE:Europe/Berlin
BEGIN:VEVENT
SUMMARY:Öffentliche Bildung und Erziehung. Zur Genese und Gestaltung eine
 s modernen Konzepts
DTSTART;TZID=Europe/Berlin:20180411T201500
DTEND;TZID=Europe/Berlin:20180411T214500
DTSTAMP:20260425T041649Z
UID:58f86fb556ad42c3996c77468878c461@www.uni-marburg.de
ATTENDEE;CN="Prof. Dr. Jürgen Oelkers";ROLE=REQ-PARTICIPANT:Prof. Dr. Jü
 rgen Oelkers
CREATED:20180215T141458Z
DESCRIPTION:https://www.uni-marburg.de/de/aktuelles/events/termine-2-quart
 al-2018/oeffentliche-bildung\nStudium Generale im SoSe 2018 an der Philipp
 s-Universität Marburg
LAST-MODIFIED:20180215T141954Z
LOCATION:Audimax\, Hörsaalgebäude\, Biegenstr. 14
URL:https://www.uni-marburg.de/de/aktuelles/events/termine-2-quartal-2018/
 oeffentliche-bildung
END:VEVENT
BEGIN:VTIMEZONE
TZID:Europe/Berlin
X-LIC-LOCATION:Europe/Berlin
BEGIN:DAYLIGHT
DTSTART:20180325T030000
TZNAME:CEST
TZOFFSETFROM:+0100
TZOFFSETTO:+0200
END:DAYLIGHT
END:VTIMEZONE
END:VCALENDAR
