BEGIN:VCALENDAR
VERSION:2.0
PRODID:-//Plone.org//NONSGML plone.app.event//EN
X-WR-TIMEZONE:Europe/Berlin
BEGIN:VEVENT
SUMMARY:Ökonomisierung der Universität? Bildung als staatliche\, private
  und öffentliche Aufgabe?
DTSTART;TZID=Europe/Berlin:20180509T201500
DTEND;TZID=Europe/Berlin:20180509T214500
DTSTAMP:20260424T175900Z
UID:b0d1a2c008fe4558bab53264743759d1@www.uni-marburg.de
ATTENDEE;CN="Prof. Dr. Andrea Liesner";ROLE=REQ-PARTICIPANT:Prof. Dr. Andr
 ea Liesner
CREATED:20180215T141458Z
DESCRIPTION:https://www.uni-marburg.de/de/aktuelles/events/termine-2-quart
 al-2018/oekonomisierung-universitaet\nStudium Generale im SoSe 2018 an der
  Philipps-Universität Marburg
LAST-MODIFIED:20180215T143003Z
LOCATION:Audimax\, Hörsaalgebäude\, Biegenstr. 14
URL:https://www.uni-marburg.de/de/aktuelles/events/termine-2-quartal-2018/
 oekonomisierung-universitaet
END:VEVENT
BEGIN:VTIMEZONE
TZID:Europe/Berlin
X-LIC-LOCATION:Europe/Berlin
BEGIN:DAYLIGHT
DTSTART:20180325T030000
TZNAME:CEST
TZOFFSETFROM:+0100
TZOFFSETTO:+0200
END:DAYLIGHT
END:VTIMEZONE
END:VCALENDAR
