BEGIN:VCALENDAR
VERSION:2.0
PRODID:-//Plone.org//NONSGML plone.app.event//EN
X-WR-TIMEZONE:Europe/Berlin
BEGIN:VEVENT
SUMMARY:Religiöse Positionierungen - Erziehungswissenschaftliche Perspekt
 i
DTSTART;TZID=Europe/Berlin:20180523T201500
DTEND;TZID=Europe/Berlin:20180523T214500
DTSTAMP:20260424T190612Z
UID:71df95d9512d48e19b4916fbbb98c937@www.uni-marburg.de
ATTENDEE;CN="Prof. Dr. Isabell Diehm";ROLE=REQ-PARTICIPANT:Prof. Dr. Isabe
 ll Diehm
CREATED:20180215T141458Z
DESCRIPTION:https://www.uni-marburg.de/de/aktuelles/events/termine-2-quart
 al-2018/rel-pos-erzw-persp\nStudium Generale im SoSe 2018 an der Philipps-
 Universität Marburg
LAST-MODIFIED:20180215T143321Z
LOCATION:Audimax\, Hörsaalgebäude\, Biegenstr. 14
URL:https://www.uni-marburg.de/de/aktuelles/events/termine-2-quartal-2018/
 rel-pos-erzw-persp
END:VEVENT
BEGIN:VTIMEZONE
TZID:Europe/Berlin
X-LIC-LOCATION:Europe/Berlin
BEGIN:DAYLIGHT
DTSTART:20180325T030000
TZNAME:CEST
TZOFFSETFROM:+0100
TZOFFSETTO:+0200
END:DAYLIGHT
END:VTIMEZONE
END:VCALENDAR
