BEGIN:VCALENDAR
VERSION:2.0
PRODID:-//Plone.org//NONSGML plone.app.event//EN
X-WR-TIMEZONE:Europe/Berlin
BEGIN:VEVENT
SUMMARY:Bedrohlich oder überbewertet? Über die Umweltrisiken von Mikropl
 astik
DTSTART;TZID=Europe/Berlin:20180528T183000
DTEND;TZID=Europe/Berlin:20180528T200000
DTSTAMP:20260424T154430Z
UID:62e4f0fa040240a6ae23ca065a6a1b18@www.uni-marburg.de
ATTENDEE;CN="Dr. Carolin Völker (Frankfurt)";ROLE=REQ-PARTICIPANT:Dr. Car
 olin Völker (Frankfurt)
CREATED:20180523T104254Z
DESCRIPTION:https://www.uni-marburg.de/de/aktuelles/events/termine-2-quart
 al-2018/rvl-voelker-28-5-18\n4. Vortrag der Ringvorlesung "Konflikte in Ge
 genwart und Zukunft" im Sommersemester 2018
LAST-MODIFIED:20180523T104343Z
LOCATION:Raum +1/0010\, Hörsaalgebäude\, Biegenstraße 14\, 35037 Marbur
 g
URL:https://www.uni-marburg.de/de/aktuelles/events/termine-2-quartal-2018/
 rvl-voelker-28-5-18
END:VEVENT
BEGIN:VTIMEZONE
TZID:Europe/Berlin
X-LIC-LOCATION:Europe/Berlin
BEGIN:DAYLIGHT
DTSTART:20180325T030000
TZNAME:CEST
TZOFFSETFROM:+0100
TZOFFSETTO:+0200
END:DAYLIGHT
END:VTIMEZONE
END:VCALENDAR
