BEGIN:VCALENDAR
VERSION:2.0
PRODID:-//Plone.org//NONSGML plone.app.event//EN
X-WR-TIMEZONE:Europe/Berlin
BEGIN:VEVENT
SUMMARY:Soziale Neurowissenschaften
DTSTART;TZID=Europe/Berlin:20180418T160000
DTEND;TZID=Europe/Berlin:20180418T190000
DTSTAMP:20260425T130631Z
UID:230ad92cc10d4b80a88510629a8681ca@www.uni-marburg.de
ATTENDEE;CN="Prof. Dr. Dipl.-Psych. Sören Krach";ROLE=REQ-PARTICIPANT:Pro
 f. Dr. Dipl.-Psych. Sören Krach
ATTENDEE;CN="Prof. Dr. med. Felix Blankenburg";ROLE=REQ-PARTICIPANT:Prof. 
 Dr. med. Felix Blankenburg
CREATED:20180413T111936Z
DESCRIPTION:https://www.uni-marburg.de/de/aktuelles/events/termine-2-quart
 al-2018/soziale_neurowissenschaften\nDer Vortrag findet im Rahmen unseres 
 Psychiatrisch-Psychotherapeutischen Kolloquiums im Sommersemester 2018 sta
 tt.
LAST-MODIFIED:20180413T112028Z
LOCATION:Hörsaal Zentrum für Psychische Gesundheit
URL:https://www.uni-marburg.de/de/aktuelles/events/termine-2-quartal-2018/
 soziale_neurowissenschaften
END:VEVENT
BEGIN:VTIMEZONE
TZID:Europe/Berlin
X-LIC-LOCATION:Europe/Berlin
BEGIN:DAYLIGHT
DTSTART:20180325T030000
TZNAME:CEST
TZOFFSETFROM:+0100
TZOFFSETTO:+0200
END:DAYLIGHT
END:VTIMEZONE
END:VCALENDAR
