BEGIN:VCALENDAR
VERSION:2.0
PRODID:-//Plone.org//NONSGML plone.app.event//EN
X-WR-TIMEZONE:Europe/Berlin
BEGIN:VEVENT
SUMMARY:"Are there carbenes in N-heterocyclic carbene organocatalysis?"
DTSTART;TZID=Europe/Berlin:20180417T141500
DTEND;TZID=Europe/Berlin:20180417T151500
DTSTAMP:20260424T172209Z
UID:36ce6acd141e4497bc511a43ca42b0c7@www.uni-marburg.de
ATTENDEE;CN="Dr. Oldamur Holloczki (Universität Bonn)";ROLE=REQ-PARTICIPA
 NT:Dr. Oldamur Holloczki (Universität Bonn)
CREATED:20180410T124052Z
DESCRIPTION:https://www.uni-marburg.de/de/aktuelles/events/termine-2-quart
 al-2018/tck1\nKolloquium zur Theoretischen Chemie
LAST-MODIFIED:20180410T124129Z
LOCATION:E273
URL:https://www.uni-marburg.de/de/aktuelles/events/termine-2-quartal-2018/
 tck1
END:VEVENT
BEGIN:VTIMEZONE
TZID:Europe/Berlin
X-LIC-LOCATION:Europe/Berlin
BEGIN:DAYLIGHT
DTSTART:20180325T030000
TZNAME:CEST
TZOFFSETFROM:+0100
TZOFFSETTO:+0200
END:DAYLIGHT
END:VTIMEZONE
END:VCALENDAR
