BEGIN:VCALENDAR
VERSION:2.0
PRODID:-//Plone.org//NONSGML plone.app.event//EN
X-WR-TIMEZONE:Europe/Berlin
BEGIN:VEVENT
SUMMARY:“Hume-Rothery inspired Bimetallic Clusters: Organometallic Chemi
 stry at the Borderline between Molecular Compounds and Intermetallic Solid
  State Phases”
DTSTART;TZID=Europe/Berlin:20180424T141500
DTEND;TZID=Europe/Berlin:20180424T151500
DTSTAMP:20260424T153704Z
UID:0d2c0d3f067a459a95de589422fc4899@www.uni-marburg.de
ATTENDEE;CN="Julius Hornung (TU München)";ROLE=REQ-PARTICIPANT:Julius Hor
 nung (TU München)
CREATED:20180410T124315Z
DESCRIPTION:https://www.uni-marburg.de/de/aktuelles/events/termine-2-quart
 al-2018/tck3\nKolloquium zur Theoretischen Chemie
LAST-MODIFIED:20180419T131706Z
LOCATION:E273
URL:https://www.uni-marburg.de/de/aktuelles/events/termine-2-quartal-2018/
 tck3
END:VEVENT
BEGIN:VTIMEZONE
TZID:Europe/Berlin
X-LIC-LOCATION:Europe/Berlin
BEGIN:DAYLIGHT
DTSTART:20180325T030000
TZNAME:CEST
TZOFFSETFROM:+0100
TZOFFSETTO:+0200
END:DAYLIGHT
END:VTIMEZONE
END:VCALENDAR
