BEGIN:VCALENDAR
VERSION:2.0
PRODID:-//Plone.org//NONSGML plone.app.event//EN
X-WR-TIMEZONE:Europe/Berlin
BEGIN:VEVENT
SUMMARY:“Synergy between computational and experimental results”
DTSTART;TZID=Europe/Berlin:20180605T141500
DTEND;TZID=Europe/Berlin:20180605T151500
DTSTAMP:20260424T140815Z
UID:052cd450531a4f1cb50303bf85f47c4d@www.uni-marburg.de
ATTENDEE;CN="Prof. Raj Kumar Bansal (IIS University Mansarovar, Jaipur, In
 dia)";ROLE=REQ-PARTICIPANT:Prof. Raj Kumar Bansal (IIS University Mansarov
 ar, Jaipur, India)
CREATED:20180410T124052Z
DESCRIPTION:https://www.uni-marburg.de/de/aktuelles/events/termine-2-quart
 al-2018/tck7\nKolloquium zur Theoretischen Chemie
LAST-MODIFIED:20180425T114608Z
LOCATION:FB Chemie\, E273 (02/5730)
URL:https://www.uni-marburg.de/de/aktuelles/events/termine-2-quartal-2018/
 tck7
END:VEVENT
BEGIN:VTIMEZONE
TZID:Europe/Berlin
X-LIC-LOCATION:Europe/Berlin
BEGIN:DAYLIGHT
DTSTART:20180325T030000
TZNAME:CEST
TZOFFSETFROM:+0100
TZOFFSETTO:+0200
END:DAYLIGHT
END:VTIMEZONE
END:VCALENDAR
