BEGIN:VCALENDAR
VERSION:2.0
PRODID:-//Plone.org//NONSGML plone.app.event//EN
X-WR-TIMEZONE:Europe/Berlin
BEGIN:VEVENT
SUMMARY:Wirtschaftsethik aus Frauensicht – Die Subsistenzperspektive am 
 Beispiel Juchitán\, Mexiko
DTSTART;TZID=Europe/Berlin:20180424T180000
DTEND;TZID=Europe/Berlin:20180424T200000
DTSTAMP:20260424T161335Z
UID:ff93adad57ff445b8319c30e7bd90bcb@www.uni-marburg.de
ATTENDEE;CN="Prof. Dr. Veronika Bennholdt-Thomsen (Bielefeld, Wien)";ROLE=
 REQ-PARTICIPANT:Prof. Dr. Veronika Bennholdt-Thomsen (Bielefeld, Wien)
CREATED:20180418T114246Z
DESCRIPTION:https://www.uni-marburg.de/de/aktuelles/events/termine-2-quart
 al-2018/vortrag_wirtschaftsethik\nVortragsreihe "Nachhaltigkeit und Gesell
 schaftsformen aus kritisch geographischer Sicht"
LAST-MODIFIED:20180419T124158Z
LOCATION:Geographie\, Kleiner Hörsaal\, Deutschhausstraße 10
URL:https://www.uni-marburg.de/de/aktuelles/events/termine-2-quartal-2018/
 vortrag_wirtschaftsethik
END:VEVENT
BEGIN:VTIMEZONE
TZID:Europe/Berlin
X-LIC-LOCATION:Europe/Berlin
BEGIN:DAYLIGHT
DTSTART:20180325T030000
TZNAME:CEST
TZOFFSETFROM:+0100
TZOFFSETTO:+0200
END:DAYLIGHT
END:VTIMEZONE
END:VCALENDAR
