BEGIN:VCALENDAR
VERSION:2.0
PRODID:-//Plone.org//NONSGML plone.app.event//EN
X-WR-TIMEZONE:Europe/Berlin
BEGIN:VEVENT
SUMMARY:Weitblick Spendenlauf
DTSTART;TZID=Europe/Berlin:20180608T140000
DTEND;TZID=Europe/Berlin:20180608T170000
DTSTAMP:20260424T172236Z
UID:9c59368fe8a84c5bbd517a2794ce4671@www.uni-marburg.de
CREATED:20180528T134030Z
DESCRIPTION:https://www.uni-marburg.de/de/aktuelles/events/termine-2-quart
 al-2018/weitblick-spendenlauf\nZur Unterstützung der Bildungsarbeit in de
 r Region und im Ausland
LAST-MODIFIED:20180528T134320Z
LOCATION:Universitätsstadion\, Jahnstraße 12\, Marburg
URL:https://www.uni-marburg.de/de/aktuelles/events/termine-2-quartal-2018/
 weitblick-spendenlauf
END:VEVENT
BEGIN:VTIMEZONE
TZID:Europe/Berlin
X-LIC-LOCATION:Europe/Berlin
BEGIN:DAYLIGHT
DTSTART:20180325T030000
TZNAME:CEST
TZOFFSETFROM:+0100
TZOFFSETTO:+0200
END:DAYLIGHT
END:VTIMEZONE
END:VCALENDAR
