BEGIN:VCALENDAR
VERSION:2.0
PRODID:-//Plone.org//NONSGML plone.app.event//EN
X-WR-TIMEZONE:Europe/Berlin
BEGIN:VEVENT
SUMMARY:"Legal Imaginaries" & "Narrative am ICC - Überlegungen zur Unters
 uchung von internationalen Strafprozessen"
DTSTART;TZID=Europe/Berlin:20180625T120000
DTEND;TZID=Europe/Berlin:20180625T140000
DTSTAMP:20260425T004217Z
UID:5dd432a866eb4c5d957f0c4b90ebd43e@www.uni-marburg.de
ATTENDEE;CN="Dr. Stéphane Voell (Zentrum für Konfliktforschung), ";ROLE=
 REQ-PARTICIPANT:Dr. Stéphane Voell (Zentrum für Konfliktforschung), 
ATTENDEE;CN="Jan Gerd Wilkens (Zentrum für Konfliktforschung)";ROLE=REQ-P
 ARTICIPANT:Jan Gerd Wilkens (Zentrum für Konfliktforschung)
CREATED:20180622T063949Z
DESCRIPTION:https://www.uni-marburg.de/de/aktuelles/events/termine-2-quart
 al-2018/zentrumskolloquium-25-06-2018\nZentrumskolloquium
LAST-MODIFIED:20180622T064131Z
LOCATION:Raum 00/1010 in der Deutschhausstrasse 3
URL:https://www.uni-marburg.de/de/aktuelles/events/termine-2-quartal-2018/
 zentrumskolloquium-25-06-2018
END:VEVENT
BEGIN:VTIMEZONE
TZID:Europe/Berlin
X-LIC-LOCATION:Europe/Berlin
BEGIN:DAYLIGHT
DTSTART:20180325T030000
TZNAME:CEST
TZOFFSETFROM:+0100
TZOFFSETTO:+0200
END:DAYLIGHT
END:VTIMEZONE
END:VCALENDAR
