BEGIN:VCALENDAR
VERSION:2.0
PRODID:-//Plone.org//NONSGML plone.app.event//EN
X-WR-TIMEZONE:Europe/Berlin
BEGIN:VEVENT
SUMMARY:Informationsveranstaltung "VBL"
DTSTART;TZID=Europe/Berlin:20190402T090000
DTEND;TZID=Europe/Berlin:20190402T110000
DTSTAMP:20260421T091005Z
UID:b1ca2070ee0345f59455e3fb73bc346b@www.uni-marburg.de
ATTENDEE;CN="Gerald Rubel, www.vbl.de";ROLE=REQ-PARTICIPANT:Gerald Rubel, 
 www.vbl.de
CREATED:20190111T080146Z
DESCRIPTION:https://www.uni-marburg.de/de/aktuelles/events/termine-2-quart
 al-2019/190402_vbl\nInformationsveranstaltung für alle Interessierten zum
  Thema "VBL"
LAST-MODIFIED:20190211T133341Z
LOCATION:B|01\, Hörsaalgebäude\, Biegenstr. 14\, Raum +02/0090 (der Raum
  ist barrierefrei erreichbar)
URL:https://www.uni-marburg.de/de/aktuelles/events/termine-2-quartal-2019/
 190402_vbl
END:VEVENT
BEGIN:VTIMEZONE
TZID:Europe/Berlin
X-LIC-LOCATION:Europe/Berlin
BEGIN:DAYLIGHT
DTSTART:20190331T030000
TZNAME:CEST
TZOFFSETFROM:+0100
TZOFFSETTO:+0200
END:DAYLIGHT
END:VTIMEZONE
END:VCALENDAR
