BEGIN:VCALENDAR
VERSION:2.0
PRODID:-//Plone.org//NONSGML plone.app.event//EN
X-WR-TIMEZONE:Europe/Berlin
BEGIN:VEVENT
SUMMARY:Informationsveranstaltung zu Rentenversicherungsfragen
DTSTART;TZID=Europe/Berlin:20190507T090000
DTEND;TZID=Europe/Berlin:20190507T110000
DTSTAMP:20260421T191108Z
UID:9af656f4ab3f4a4eb9e22ac49135158a@www.uni-marburg.de
ATTENDEE;CN="Anja Jaeckel, DRV Hessen";ROLE=REQ-PARTICIPANT:Anja Jaeckel, 
 DRV Hessen
CREATED:20190111T080146Z
DESCRIPTION:https://www.uni-marburg.de/de/aktuelles/events/termine-2-quart
 al-2019/190507_rentenversicherung\nIn dieser Veranstaltung erhalten Sie al
 lgemeine Informationen bezüglich Rente\, Erwerbsminderungsrente etc. und 
 haben die Möglichkeit\, Fragen zu stellen.
LAST-MODIFIED:20190125T075415Z
LOCATION:U|02\, Landgrafenhaus\, Universitätsstrasse 7\, +2/0090 (102)
URL:https://www.uni-marburg.de/de/aktuelles/events/termine-2-quartal-2019/
 190507_rentenversicherung
END:VEVENT
BEGIN:VTIMEZONE
TZID:Europe/Berlin
X-LIC-LOCATION:Europe/Berlin
BEGIN:DAYLIGHT
DTSTART:20190331T030000
TZNAME:CEST
TZOFFSETFROM:+0100
TZOFFSETTO:+0200
END:DAYLIGHT
END:VTIMEZONE
END:VCALENDAR
