BEGIN:VCALENDAR
VERSION:2.0
PRODID:-//Plone.org//NONSGML plone.app.event//EN
X-WR-TIMEZONE:Europe/Berlin
BEGIN:VEVENT
SUMMARY:Neu an der Philipps-Universität
DTSTART;TZID=Europe/Berlin:20190522T083000
DTEND;TZID=Europe/Berlin:20190522T110000
DTSTAMP:20260421T091112Z
UID:e9311b3645654613bb4366d5c71372d2@www.uni-marburg.de
ATTENDEE;CN="Vera Payer; Dez. II (Personalabteilung)";ROLE=REQ-PARTICIPANT
 :Vera Payer; Dez. II (Personalabteilung)
CREATED:20190111T080146Z
DESCRIPTION:https://www.uni-marburg.de/de/aktuelles/events/termine-2-quart
 al-2019/190522_neuanderuni\nVeranstaltung der Veranstaltungsreihe "Uni int
 ern - Fachwissen informativ und kompakt" für alle Mitarbeiterinnen und Mi
 tarbeiter\, die noch nicht so lange an der Universität beschäftigt sind\
 , und die sich einen ersten Überblick über ihre neue Arbeitsstelle versc
 haffen möchten.
LAST-MODIFIED:20190211T133027Z
LOCATION:B|01\, Hörsaalgebäude\, Biegenstr. 14\, Raum +02/0100 (der Raum
  ist barrierefrei erreichbar)
URL:https://www.uni-marburg.de/de/aktuelles/events/termine-2-quartal-2019/
 190522_neuanderuni
END:VEVENT
BEGIN:VTIMEZONE
TZID:Europe/Berlin
X-LIC-LOCATION:Europe/Berlin
BEGIN:DAYLIGHT
DTSTART:20190331T030000
TZNAME:CEST
TZOFFSETFROM:+0100
TZOFFSETTO:+0200
END:DAYLIGHT
END:VTIMEZONE
END:VCALENDAR
