BEGIN:VCALENDAR
VERSION:2.0
PRODID:-//Plone.org//NONSGML plone.app.event//EN
X-WR-TIMEZONE:Europe/Berlin
BEGIN:VEVENT
SUMMARY:Das Jahresgespräch: Workshop für Mitarbeiter/innen
DTSTART;TZID=Europe/Berlin:20190604T083000
DTEND;TZID=Europe/Berlin:20190604T133000
DTSTAMP:20260421T091111Z
UID:af541d066f6740fea4352afe7c18fa38@www.uni-marburg.de
ATTENDEE;CN="Dr. Katja Franz (www.katjafranz.de)";ROLE=REQ-PARTICIPANT:Dr.
  Katja Franz (www.katjafranz.de)
CREATED:20190111T080146Z
DESCRIPTION:https://www.uni-marburg.de/de/aktuelles/events/termine-2-quart
 al-2019/190604_jgma\n
LAST-MODIFIED:20190211T133738Z
LOCATION:B|01\, Hörsaalgebäude\, Biegenstr. 14\, Raum +02/0100 (der Raum
  ist barrierefrei erreichbar)
URL:https://www.uni-marburg.de/de/aktuelles/events/termine-2-quartal-2019/
 190604_jgma
END:VEVENT
BEGIN:VTIMEZONE
TZID:Europe/Berlin
X-LIC-LOCATION:Europe/Berlin
BEGIN:DAYLIGHT
DTSTART:20190331T030000
TZNAME:CEST
TZOFFSETFROM:+0100
TZOFFSETTO:+0200
END:DAYLIGHT
END:VTIMEZONE
END:VCALENDAR
