BEGIN:VCALENDAR
VERSION:2.0
PRODID:-//Plone.org//NONSGML plone.app.event//EN
X-WR-TIMEZONE:Europe/Berlin
BEGIN:VEVENT
SUMMARY:Das Jahresgespräch: Workshop für Führungskräfte
DTSTART;TZID=Europe/Berlin:20190606T083000
DTEND;TZID=Europe/Berlin:20190606T133000
DTSTAMP:20260421T091109Z
UID:c38766e106bb4929ae238e064554e0de@www.uni-marburg.de
ATTENDEE;CN="Oliver Leibrecht (www.euton.de)";ROLE=REQ-PARTICIPANT:Oliver 
 Leibrecht (www.euton.de)
CREATED:20190111T080146Z
DESCRIPTION:https://www.uni-marburg.de/de/aktuelles/events/termine-2-quart
 al-2019/190606_jgfk\n
LAST-MODIFIED:20190211T133734Z
LOCATION:B|01\, Hörsaalgebäude\, Biegenstr. 14\, Raum +02/0100 (der Raum
  ist barrierefrei erreichbar)
URL:https://www.uni-marburg.de/de/aktuelles/events/termine-2-quartal-2019/
 190606_jgfk
END:VEVENT
BEGIN:VTIMEZONE
TZID:Europe/Berlin
X-LIC-LOCATION:Europe/Berlin
BEGIN:DAYLIGHT
DTSTART:20190331T030000
TZNAME:CEST
TZOFFSETFROM:+0100
TZOFFSETTO:+0200
END:DAYLIGHT
END:VTIMEZONE
END:VCALENDAR
