BEGIN:VCALENDAR
VERSION:2.0
PRODID:-//Plone.org//NONSGML plone.app.event//EN
X-WR-TIMEZONE:Europe/Berlin
BEGIN:VEVENT
SUMMARY:Führungswissen – Selbstführung – Teamführung
DTSTART;TZID=Europe/Berlin:20190613T090000
DTEND;TZID=Europe/Berlin:20190614T130000
DTSTAMP:20260422T050611Z
UID:fc67e586a8314b5e9007972ff5938103@www.uni-marburg.de
ATTENDEE;CN="B. Schade (www.barbara-schade.de)";ROLE=REQ-PARTICIPANT:B. Sc
 hade (www.barbara-schade.de)
CREATED:20190117T072620Z
DESCRIPTION:https://www.uni-marburg.de/de/aktuelles/events/termine-2-quart
 al-2019/190613_gfmteamfuehrung\n1. Modul der Veranstaltungsreihe "Gestalte
 n - Führen - Motivieren : Verantwortung für Personen und Projekte"\, ins
 besondere für neuberufene Professorinnen und Professoren
LAST-MODIFIED:20190117T073400Z
LOCATION:Veranstaltung findet im Lahntal statt - Raum wird noch bekannt ge
 geben
URL:https://www.uni-marburg.de/de/aktuelles/events/termine-2-quartal-2019/
 190613_gfmteamfuehrung
END:VEVENT
BEGIN:VTIMEZONE
TZID:Europe/Berlin
X-LIC-LOCATION:Europe/Berlin
BEGIN:DAYLIGHT
DTSTART:20190331T030000
TZNAME:CEST
TZOFFSETFROM:+0100
TZOFFSETTO:+0200
END:DAYLIGHT
END:VTIMEZONE
END:VCALENDAR
