BEGIN:VCALENDAR
VERSION:2.0
PRODID:-//Plone.org//NONSGML plone.app.event//EN
X-WR-TIMEZONE:Europe/Berlin
BEGIN:VEVENT
SUMMARY:Depression und Suizidalität: Neue Erkenntnisse
DTSTART;TZID=Europe/Berlin:20190626T160000
DTEND;TZID=Europe/Berlin:20190626T190000
DTSTAMP:20260421T190418Z
UID:d52ca72a96f44bdca6ad79c93f3b15ad@www.uni-marburg.de
ATTENDEE;CN="Prof. Dr. Thomas C. Baghai, Regensburg";ROLE=REQ-PARTICIPANT:
 Prof. Dr. Thomas C. Baghai, Regensburg
ATTENDEE;CN="PD Dr. Christoph Schultz, Fulda";ROLE=REQ-PARTICIPANT:PD Dr. 
 Christoph Schultz, Fulda
CREATED:20190321T121016Z
DESCRIPTION:https://www.uni-marburg.de/de/aktuelles/events/termine-2-quart
 al-2019/depression\nDie Veranstaltung findet im Rahmen unseres Psychiatris
 ch-Psychotherapeutischen Kolloquiums im SS 2019 statt.
LAST-MODIFIED:20190321T121843Z
LOCATION:Hörsaal des Zentrums für Psychische Gesundheit\, Universitätsk
 linik für Psychiatrie und Psychotherapie\, Rudolf-Bultmann-Straße 8\, 35
 039 Marburg
URL:https://www.uni-marburg.de/de/aktuelles/events/termine-2-quartal-2019/
 depression
END:VEVENT
BEGIN:VTIMEZONE
TZID:Europe/Berlin
X-LIC-LOCATION:Europe/Berlin
BEGIN:DAYLIGHT
DTSTART:20190331T030000
TZNAME:CEST
TZOFFSETFROM:+0100
TZOFFSETTO:+0200
END:DAYLIGHT
END:VTIMEZONE
END:VCALENDAR
