BEGIN:VCALENDAR
VERSION:2.0
PRODID:-//Plone.org//NONSGML plone.app.event//EN
X-WR-TIMEZONE:Europe/Berlin
BEGIN:VEVENT
SUMMARY:Digitale Arbeit und Migration
DTSTART;TZID=Europe/Berlin:20190523T180000
DTSTAMP:20260421T160455Z
UID:f3b658b91a0344658f28a9c3b91b3f90@www.uni-marburg.de
ATTENDEE;CN="Mira Wallis M.A. (Center for Digital Cultures, Leuphana Unive
 rsität Lüneburg)";ROLE=REQ-PARTICIPANT:Mira Wallis M.A. (Center for Digi
 tal Cultures, Leuphana Universität Lüneburg)
CREATED:20190515T134937Z
DESCRIPTION:https://www.uni-marburg.de/de/aktuelles/events/termine-2-quart
 al-2019/digitale-arbeit-und-migration\nDer Vortrag im Rahmen der Veranstal
 tungsreihe "Digitale Kultur - Kultur digital" stellt ethnographische Erfor
 schungen von Plattformarbeit vor.
LAST-MODIFIED:20190516T154304Z
LOCATION:Alter Senatssitzungssaal\, Biegenstraße 10\, 35037 Marburg
URL:https://www.uni-marburg.de/de/aktuelles/events/termine-2-quartal-2019/
 digitale-arbeit-und-migration
END:VEVENT
BEGIN:VTIMEZONE
TZID:Europe/Berlin
X-LIC-LOCATION:Europe/Berlin
BEGIN:DAYLIGHT
DTSTART:20190331T030000
TZNAME:CEST
TZOFFSETFROM:+0100
TZOFFSETTO:+0200
END:DAYLIGHT
END:VTIMEZONE
END:VCALENDAR
