BEGIN:VCALENDAR
VERSION:2.0
PRODID:-//Plone.org//NONSGML plone.app.event//EN
X-WR-TIMEZONE:Europe/Berlin
BEGIN:VEVENT
SUMMARY:"Engagierte Stadt - das sind wir alle!"
DTSTART;TZID=Europe/Berlin:20190611T173000
DTEND;TZID=Europe/Berlin:20190611T191500
DTSTAMP:20260421T143737Z
UID:44ea45881c304a1eb244ff223a1188eb@www.uni-marburg.de
CREATED:20190524T135854Z
DESCRIPTION:https://www.uni-marburg.de/de/aktuelles/events/termine-2-quart
 al-2019/engagierte-stadt-das-sind-wir-alle\nVorstellung des Sammelbandes "
 Freiwilliges Engagement von Studierenden"
LAST-MODIFIED:20190524T135922Z
LOCATION:Historischer Rathaussaal\, Rathaus Marburg\, Markt 1\, Marburg
URL:https://www.uni-marburg.de/de/aktuelles/events/termine-2-quartal-2019/
 engagierte-stadt-das-sind-wir-alle
END:VEVENT
BEGIN:VTIMEZONE
TZID:Europe/Berlin
X-LIC-LOCATION:Europe/Berlin
BEGIN:DAYLIGHT
DTSTART:20190331T030000
TZNAME:CEST
TZOFFSETFROM:+0100
TZOFFSETTO:+0200
END:DAYLIGHT
END:VTIMEZONE
END:VCALENDAR
