BEGIN:VCALENDAR
VERSION:2.0
PRODID:-//Plone.org//NONSGML plone.app.event//EN
X-WR-TIMEZONE:Europe/Berlin
BEGIN:VEVENT
SUMMARY:Gasthörer- und Seniorenstudium im Sommersemester 2019
DTSTART;TZID=Europe/Berlin:20190405T100000
DTEND;TZID=Europe/Berlin:20190405T110000
DTSTAMP:20260421T191102Z
UID:fdb2316c21d845249eece552fa96032e@www.uni-marburg.de
ATTENDEE;CN="Karin Mosebach";ROLE=REQ-PARTICIPANT:Karin Mosebach
CREATED:20190405T092224Z
DESCRIPTION:https://www.uni-marburg.de/de/aktuelles/events/termine-2-quart
 al-2019/gasthoerer-und-seniorenstudium-sose-2019\nInfo-Veranstaltung für 
 alle Interessierten
LAST-MODIFIED:20190405T092319Z
LOCATION:Hörsaalgebäude\, Biegenstr. 14\, 35037 Marburg\, Raum 00/0080
URL:https://www.uni-marburg.de/de/aktuelles/events/termine-2-quartal-2019/
 gasthoerer-und-seniorenstudium-sose-2019
END:VEVENT
BEGIN:VTIMEZONE
TZID:Europe/Berlin
X-LIC-LOCATION:Europe/Berlin
BEGIN:DAYLIGHT
DTSTART:20190331T030000
TZNAME:CEST
TZOFFSETFROM:+0100
TZOFFSETTO:+0200
END:DAYLIGHT
END:VTIMEZONE
END:VCALENDAR
