BEGIN:VCALENDAR
VERSION:2.0
PRODID:-//Plone.org//NONSGML plone.app.event//EN
X-WR-TIMEZONE:Europe/Berlin
BEGIN:VEVENT
SUMMARY:Hochschulwahl vom 25. bis 27. Juni
DTSTART;VALUE=DATE:20190625
DTEND;VALUE=DATE:20190628
DTSTAMP:20260421T091050Z
UID:7a0f16ce0d0c412dbd4f2f209fd2f791@www.uni-marburg.de
CREATED:20190618T141832Z
DESCRIPTION:https://www.uni-marburg.de/de/aktuelles/events/termine-2-quart
 al-2019/hochschulwahl\nStudierende wählen Mitglieder für den Senat und d
 ie Fachbereichsräte
LAST-MODIFIED:20240109T133333Z
LOCATION:Wahllokale der UMR
URL:https://www.uni-marburg.de/de/aktuelles/events/termine-2-quartal-2019/
 hochschulwahl
END:VEVENT
END:VCALENDAR
