BEGIN:VCALENDAR
VERSION:2.0
PRODID:-//Plone.org//NONSGML plone.app.event//EN
X-WR-TIMEZONE:Europe/Berlin
BEGIN:VEVENT
SUMMARY:Kriminalitätsbekämpfung als Herausforderung des Rechtsstaats
DTSTART;TZID=Europe/Berlin:20190515T181500
DTSTAMP:20260421T190317Z
UID:ca3313ddf6ea462f8a05f9e30bcd6728@www.uni-marburg.de
ATTENDEE;CN="Prof. Dr. Matthias Bäcker (Johannes Gutenberg-Universität M
 ainz)";ROLE=REQ-PARTICIPANT:Prof. Dr. Matthias Bäcker (Johannes Gutenberg
 -Universität Mainz)
CREATED:20190416T131818Z
DESCRIPTION:https://www.uni-marburg.de/de/aktuelles/events/termine-2-quart
 al-2019/kriminalitaetsbekaempfung\nVortrag im Studium Generale im Sommerse
 mester 2019
LAST-MODIFIED:20190506T121757Z
LOCATION:Audimax im Hörsaalgebäude (+2/0010)\, Biegenstraße 14\, 35037 
 Marburg
URL:https://www.uni-marburg.de/de/aktuelles/events/termine-2-quartal-2019/
 kriminalitaetsbekaempfung
END:VEVENT
BEGIN:VTIMEZONE
TZID:Europe/Berlin
X-LIC-LOCATION:Europe/Berlin
BEGIN:DAYLIGHT
DTSTART:20190331T030000
TZNAME:CEST
TZOFFSETFROM:+0100
TZOFFSETTO:+0200
END:DAYLIGHT
END:VTIMEZONE
END:VCALENDAR
