BEGIN:VCALENDAR
VERSION:2.0
PRODID:-//Plone.org//NONSGML plone.app.event//EN
X-WR-TIMEZONE:Europe/Berlin
BEGIN:VEVENT
SUMMARY:Psychiatrie der offenen Türen
DTSTART;TZID=Europe/Berlin:20190605T160000
DTEND;TZID=Europe/Berlin:20190605T190000
DTSTAMP:20260421T090835Z
UID:c2dfc8c09def46c2865c193fab076718@www.uni-marburg.de
ATTENDEE;CN="Dr. Peter Nyhuis, Herne";ROLE=REQ-PARTICIPANT:Dr. Peter Nyhui
 s, Herne
ATTENDEE;CN="Prof. Dr. Tilo Kircher, Agnes Gross, Andreas Jung, Marburg";R
 OLE=REQ-PARTICIPANT:Prof. Dr. Tilo Kircher, Agnes Gross, Andreas Jung, Mar
 burg
CREATED:20190321T121016Z
DESCRIPTION:https://www.uni-marburg.de/de/aktuelles/events/termine-2-quart
 al-2019/offen\nDie Veranstaltung findet im Rahmen unseres Psychiatrisch-Ps
 ychotherapeutischen Kolloquiums im SS 2019 statt.
LAST-MODIFIED:20190321T121620Z
LOCATION:Hörsaal des Zentrums für Psychische Gesundheit\, Universitätsk
 linik für Psychiatrie und Psychotherapie\, Rudolf-Bultmann-Straße 8\, 35
 039 Marburg
URL:https://www.uni-marburg.de/de/aktuelles/events/termine-2-quartal-2019/
 offen
END:VEVENT
BEGIN:VTIMEZONE
TZID:Europe/Berlin
X-LIC-LOCATION:Europe/Berlin
BEGIN:DAYLIGHT
DTSTART:20190331T030000
TZNAME:CEST
TZOFFSETFROM:+0100
TZOFFSETTO:+0200
END:DAYLIGHT
END:VTIMEZONE
END:VCALENDAR
