BEGIN:VCALENDAR
VERSION:2.0
PRODID:-//Plone.org//NONSGML plone.app.event//EN
X-WR-TIMEZONE:Europe/Berlin
BEGIN:VEVENT
SUMMARY:OpenStudioMarburg
DTSTART;TZID=Europe/Berlin:20190612T183000
DTEND;TZID=Europe/Berlin:20190612T193000
DTSTAMP:20260421T091002Z
UID:dab807f125ba402297046d18937c46b2@www.uni-marburg.de
ATTENDEE;CN="Jan Trauzold";ROLE=REQ-PARTICIPANT:Jan Trauzold
CREATED:20190607T121612Z
DESCRIPTION:https://www.uni-marburg.de/de/aktuelles/events/termine-2-quart
 al-2019/openstudiomarburg\nBesuch der neuen Medienräume in der Universit
 ätsbibliothek
LAST-MODIFIED:20190607T121624Z
LOCATION:Universitätsbibliothek Marburg\, Deutschhausstraße 9
URL:https://www.uni-marburg.de/de/aktuelles/events/termine-2-quartal-2019/
 openstudiomarburg
END:VEVENT
BEGIN:VTIMEZONE
TZID:Europe/Berlin
X-LIC-LOCATION:Europe/Berlin
BEGIN:DAYLIGHT
DTSTART:20190331T030000
TZNAME:CEST
TZOFFSETFROM:+0100
TZOFFSETTO:+0200
END:DAYLIGHT
END:VTIMEZONE
END:VCALENDAR
