BEGIN:VCALENDAR
VERSION:2.0
PRODID:-//Plone.org//NONSGML plone.app.event//EN
X-WR-TIMEZONE:Europe/Berlin
BEGIN:VEVENT
SUMMARY:Psychopathologie
DTSTART;TZID=Europe/Berlin:20190529T160000
DTEND;TZID=Europe/Berlin:20190529T190000
DTSTAMP:20260421T091053Z
UID:bd86e113dcbe46caa87bd11c83d9a26b@www.uni-marburg.de
ATTENDEE;CN="Prof. Dr. Werner Strik, Bern";ROLE=REQ-PARTICIPANT:Prof. Dr. 
 Werner Strik, Bern
ATTENDEE;CN="Prof. Dr. Arne Nagels, Mainz";ROLE=REQ-PARTICIPANT:Prof. Dr. 
 Arne Nagels, Mainz
CREATED:20190321T121016Z
DESCRIPTION:https://www.uni-marburg.de/de/aktuelles/events/termine-2-quart
 al-2019/psychopathologie\nDie Veranstaltung findet im Rahmen unseres Psych
 iatrisch-Psychotherapeutischen Kolloquiums im SS 2019 statt.
LAST-MODIFIED:20190321T121153Z
LOCATION:Hörsaal des Zentrums für Psychische Gesundheit\, Universitätsk
 linik für Psychiatrie und Psychotherapie\, Rudolf-Bultmann-Straße 8\, 35
 039 Marburg
URL:https://www.uni-marburg.de/de/aktuelles/events/termine-2-quartal-2019/
 psychopathologie
END:VEVENT
BEGIN:VTIMEZONE
TZID:Europe/Berlin
X-LIC-LOCATION:Europe/Berlin
BEGIN:DAYLIGHT
DTSTART:20190331T030000
TZNAME:CEST
TZOFFSETFROM:+0100
TZOFFSETTO:+0200
END:DAYLIGHT
END:VTIMEZONE
END:VCALENDAR
