BEGIN:VCALENDAR
VERSION:2.0
PRODID:-//Plone.org//NONSGML plone.app.event//EN
X-WR-TIMEZONE:Europe/Berlin
BEGIN:VEVENT
SUMMARY:Sport Dies 2019
DTSTART;VALUE=DATE:20190515
DTEND;VALUE=DATE:20190516
DTSTAMP:20260421T091059Z
UID:ad173e506f224c608649ead8fc0af8f8@www.uni-marburg.de
CREATED:20190507T124536Z
DESCRIPTION:https://www.uni-marburg.de/de/aktuelles/events/termine-2-quart
 al-2019/sport-dies\nSporttag für alle Studierende und Beschäftigte der P
 hilipps-Universität
LAST-MODIFIED:20200608T125607Z
LOCATION:Uni-Stadion
URL:https://www.uni-marburg.de/de/aktuelles/events/termine-2-quartal-2019/
 sport-dies
END:VEVENT
END:VCALENDAR
