BEGIN:VCALENDAR
VERSION:2.0
PRODID:-//Plone.org//NONSGML plone.app.event//EN
X-WR-TIMEZONE:Europe/Berlin
BEGIN:VEVENT
SUMMARY:Studentische Initiative "Blue Community" gründet Projektgruppe
DTSTART;TZID=Europe/Berlin:20190522T140000
DTSTAMP:20260424T034232Z
UID:a6724bf3ec7a41a1b635f4b219213576@www.uni-marburg.de
CREATED:20190522T132601Z
DESCRIPTION:https://www.uni-marburg.de/de/aktuelles/events/termine-2-quart
 al-2019/studentische-initiative-blue-community-gruendet-projektgruppe\nErs
 te Wasserspender im Hörsaalgebäude sind installiert
LAST-MODIFIED:20190522T132614Z
LOCATION:Hörsaalgebäude\, Biegenstr. 14\, 35037 Marburg\, 2. Obergeschos
 s\, Raum 0100
URL:https://www.uni-marburg.de/de/aktuelles/events/termine-2-quartal-2019/
 studentische-initiative-blue-community-gruendet-projektgruppe
END:VEVENT
BEGIN:VTIMEZONE
TZID:Europe/Berlin
X-LIC-LOCATION:Europe/Berlin
BEGIN:DAYLIGHT
DTSTART:20190331T030000
TZNAME:CEST
TZOFFSETFROM:+0100
TZOFFSETTO:+0200
END:DAYLIGHT
END:VTIMEZONE
END:VCALENDAR
