BEGIN:VCALENDAR
VERSION:2.0
PRODID:-//Plone.org//NONSGML plone.app.event//EN
X-WR-TIMEZONE:Europe/Berlin
BEGIN:VEVENT
SUMMARY:Tag der Architektur im Kunstmuseum Marburg
DTSTART;TZID=Europe/Berlin:20190629T140000
DTEND;TZID=Europe/Berlin:20190629T170000
DTSTAMP:20260423T144205Z
UID:4cd880862ced42e49ad02285840cb192@www.uni-marburg.de
CREATED:20190619T121330Z
DESCRIPTION:https://www.uni-marburg.de/de/aktuelles/events/termine-2-quart
 al-2019/tag-der-architektur-im-kunstmuseum-marburg\nDas Kunstmuseum Marbur
 g öffnet seine Türen für Architektur-Interessierte
LAST-MODIFIED:20190619T142701Z
LOCATION:Kunstmuseum Marburg\, Biegenstraße 11
URL:https://www.uni-marburg.de/de/aktuelles/events/termine-2-quartal-2019/
 tag-der-architektur-im-kunstmuseum-marburg
END:VEVENT
BEGIN:VTIMEZONE
TZID:Europe/Berlin
X-LIC-LOCATION:Europe/Berlin
BEGIN:DAYLIGHT
DTSTART:20190331T030000
TZNAME:CEST
TZOFFSETFROM:+0100
TZOFFSETTO:+0200
END:DAYLIGHT
END:VTIMEZONE
END:VCALENDAR
