BEGIN:VCALENDAR
VERSION:2.0
PRODID:-//Plone.org//NONSGML plone.app.event//EN
X-WR-TIMEZONE:Europe/Berlin
BEGIN:VEVENT
SUMMARY:Tag der Zentren
DTSTART;TZID=Europe/Berlin:20190619T130000
DTEND;TZID=Europe/Berlin:20190619T210000
DTSTAMP:20260421T091054Z
UID:4467d64bc049409d9d7af0edea6e24ae@www.uni-marburg.de
CREATED:20190305T071041Z
DESCRIPTION:https://www.uni-marburg.de/de/aktuelles/events/termine-2-quart
 al-2019/tag-der-zentren\nGelebte Interdisziplinarität. 13 Zentren auf ein
 en Blick.
LAST-MODIFIED:20190305T071424Z
LOCATION:Universitätsbibliothek (bis 17:30 Uhr) und Aula der Alten Univer
 sität (ab 18:00 Uhr)
URL:https://www.uni-marburg.de/de/aktuelles/events/termine-2-quartal-2019/
 tag-der-zentren
END:VEVENT
BEGIN:VTIMEZONE
TZID:Europe/Berlin
X-LIC-LOCATION:Europe/Berlin
BEGIN:DAYLIGHT
DTSTART:20190331T030000
TZNAME:CEST
TZOFFSETFROM:+0100
TZOFFSETTO:+0200
END:DAYLIGHT
END:VTIMEZONE
END:VCALENDAR
