BEGIN:VCALENDAR
VERSION:2.0
PRODID:-//Plone.org//NONSGML plone.app.event//EN
X-WR-TIMEZONE:Europe/Berlin
BEGIN:VEVENT
SUMMARY:Gene - Genexpression - Gehirn: translationale Ansätze in der psyc
 hiatrischen Forschung
DTSTART;TZID=Europe/Berlin:20190403T160000
DTEND;TZID=Europe/Berlin:20190403T180000
DTSTAMP:20260422T045752Z
UID:59cdcfb5870f4b878bca3e9e91177cce@www.uni-marburg.de
ATTENDEE;CN="Prof. Dr. Thomas Nickl-Jockschat, University of Iowa";ROLE=RE
 Q-PARTICIPANT:Prof. Dr. Thomas Nickl-Jockschat, University of Iowa
CREATED:20190315T103830Z
DESCRIPTION:https://www.uni-marburg.de/de/aktuelles/events/termine-2-quart
 al-2019/translational\n
LAST-MODIFIED:20190315T103900Z
LOCATION:Hörsaal der Universitätsklinik für Psychiatrie und Psychothera
 pie\, Rudolf-Bultmann-Straße 8\, 35039 Marburg
URL:https://www.uni-marburg.de/de/aktuelles/events/termine-2-quartal-2019/
 translational
END:VEVENT
BEGIN:VTIMEZONE
TZID:Europe/Berlin
X-LIC-LOCATION:Europe/Berlin
BEGIN:DAYLIGHT
DTSTART:20190331T030000
TZNAME:CEST
TZOFFSETFROM:+0100
TZOFFSETTO:+0200
END:DAYLIGHT
END:VTIMEZONE
END:VCALENDAR
