BEGIN:VCALENDAR
VERSION:2.0
PRODID:-//Plone.org//NONSGML plone.app.event//EN
X-WR-TIMEZONE:Europe/Berlin
BEGIN:VEVENT
SUMMARY:UMRCamp "Fächerübergreifendes Forschen\, Lehren\, Studieren"
DTSTART;TZID=Europe/Berlin:20190517T143000
DTEND;TZID=Europe/Berlin:20190517T200000
DTSTAMP:20260421T091008Z
UID:922e7585bfcb4c4ca713aa9c1f2e6263@www.uni-marburg.de
CREATED:20190418T083040Z
DESCRIPTION:https://www.uni-marburg.de/de/aktuelles/events/termine-2-quart
 al-2019/umrcamp3\nOffenes Forum für Diskussionen zum Themenkomplex "Fäch
 erübergreifendes Forschen\, Lehren\, Studieren".
LAST-MODIFIED:20190418T083229Z
LOCATION:Universitätsbibliothek
URL:https://www.uni-marburg.de/de/aktuelles/events/termine-2-quartal-2019/
 umrcamp3
END:VEVENT
BEGIN:VTIMEZONE
TZID:Europe/Berlin
X-LIC-LOCATION:Europe/Berlin
BEGIN:DAYLIGHT
DTSTART:20190331T030000
TZNAME:CEST
TZOFFSETFROM:+0100
TZOFFSETTO:+0200
END:DAYLIGHT
END:VTIMEZONE
END:VCALENDAR
