BEGIN:VCALENDAR
VERSION:2.0
PRODID:-//Plone.org//NONSGML plone.app.event//EN
X-WR-TIMEZONE:Europe/Berlin
BEGIN:VEVENT
SUMMARY:Uni-Sommerfest
DTSTART;TZID=Europe/Berlin:20190525T140000
DTSTAMP:20260420T224942Z
UID:38aaaaed254146aab4691871cf611ec0@www.uni-marburg.de
CREATED:20181217T082726Z
DESCRIPTION:https://www.uni-marburg.de/de/aktuelles/events/termine-2-quart
 al-2019/uni-sommerfest\nFeiern Sie mit! Die Universität präsentiert sich
  am Schloss - mit Lehre\, Forschung und viel Spaß
LAST-MODIFIED:20190524T093036Z
LOCATION:Landgrafenschloss
URL:https://www.uni-marburg.de/de/aktuelles/events/termine-2-quartal-2019/
 uni-sommerfest
END:VEVENT
BEGIN:VTIMEZONE
TZID:Europe/Berlin
X-LIC-LOCATION:Europe/Berlin
BEGIN:DAYLIGHT
DTSTART:20190331T030000
TZNAME:CEST
TZOFFSETFROM:+0100
TZOFFSETTO:+0200
END:DAYLIGHT
END:VTIMEZONE
END:VCALENDAR
