BEGIN:VCALENDAR
VERSION:2.0
PRODID:-//Plone.org//NONSGML plone.app.event//EN
X-WR-TIMEZONE:Europe/Berlin
BEGIN:VEVENT
SUMMARY:Verleihung der Promotionspreise
DTSTART;TZID=Europe/Berlin:20190628T150000
DTSTAMP:20260422T050615Z
UID:76fb9d44cd8d4be4b22168f32ba9fbd2@www.uni-marburg.de
ATTENDEE;CN="Prof. Dr. Sabine Pankuweit, Vizepräsidentin für Gleichstell
 ung und Förderung des wissenschaftlichen Nachwuchses";ROLE=REQ-PARTICIPAN
 T:Prof. Dr. Sabine Pankuweit, Vizepräsidentin für Gleichstellung und Fö
 rderung des wissenschaftlichen Nachwuchses
ATTENDEE;CN="Dr. Martin Vey, Head of Plasma Product Development, CSL Behri
 ng";ROLE=REQ-PARTICIPANT:Dr. Martin Vey, Head of Plasma Product Developmen
 t, CSL Behring
CREATED:20190618T075723Z
DESCRIPTION:https://www.uni-marburg.de/de/aktuelles/events/termine-2-quart
 al-2019/verleihung-der-promotionspreise\nPhilipps-Universität ehrt wissen
 schaftlichen Nachwuchs in einer öffentlichen Verleihung der Promotionspre
 ise des Jahrgangs 2018
LAST-MODIFIED:20190618T075953Z
LOCATION:Universitätsbibliothek Marburg\, Deutschhausstraße 9\, 35037 Ma
 rburg
URL:https://www.uni-marburg.de/de/aktuelles/events/termine-2-quartal-2019/
 verleihung-der-promotionspreise
END:VEVENT
BEGIN:VTIMEZONE
TZID:Europe/Berlin
X-LIC-LOCATION:Europe/Berlin
BEGIN:DAYLIGHT
DTSTART:20190331T030000
TZNAME:CEST
TZOFFSETFROM:+0100
TZOFFSETTO:+0200
END:DAYLIGHT
END:VTIMEZONE
END:VCALENDAR
