BEGIN:VCALENDAR
VERSION:2.0
PRODID:-//Plone.org//NONSGML plone.app.event//EN
X-WR-TIMEZONE:Europe/Berlin
BEGIN:VEVENT
SUMMARY:Weimarer Verhältnisse? Demokratie\, Wissenschaft und Gesellschaft
DTSTART;TZID=Europe/Berlin:20190508T201500
DTSTAMP:20260422T000532Z
UID:21684167450d478f901a489d6a9d7858@www.uni-marburg.de
ATTENDEE;CN="Prof. Dr. Eckart Conze (Philipps-Universität Marburg)";ROLE=
 REQ-PARTICIPANT:Prof. Dr. Eckart Conze (Philipps-Universität Marburg)
CREATED:20190416T130345Z
DESCRIPTION:https://www.uni-marburg.de/de/aktuelles/events/termine-2-quart
 al-2019/weimarer-verhaeltnisse\nVortrag im Studium Generale im Sommersemes
 ter 2019
LAST-MODIFIED:20190502T130157Z
LOCATION:Audimax im Hörsaalgebäude (+2/0010)\, Biegenstraße 14\, 35037 
 Marburg
URL:https://www.uni-marburg.de/de/aktuelles/events/termine-2-quartal-2019/
 weimarer-verhaeltnisse
END:VEVENT
BEGIN:VTIMEZONE
TZID:Europe/Berlin
X-LIC-LOCATION:Europe/Berlin
BEGIN:DAYLIGHT
DTSTART:20190331T030000
TZNAME:CEST
TZOFFSETFROM:+0100
TZOFFSETTO:+0200
END:DAYLIGHT
END:VTIMEZONE
END:VCALENDAR
