BEGIN:VCALENDAR
VERSION:2.0
PRODID:-//Plone.org//NONSGML plone.app.event//EN
X-WR-TIMEZONE:Europe/Berlin
BEGIN:VEVENT
SUMMARY:Wider den Konstruktivismus! Die akademische Kritik an "Gender" als
  Krise der Wissenschaft
DTSTART;TZID=Europe/Berlin:20190522T201500
DTSTAMP:20260421T091100Z
UID:53655121bc54486688924d337640d6ca@www.uni-marburg.de
ATTENDEE;CN="Dr. Marion Näser-Lather (Philipps-Universität Marburg)";ROL
 E=REQ-PARTICIPANT:Dr. Marion Näser-Lather (Philipps-Universität Marburg)
CREATED:20190416T132304Z
DESCRIPTION:https://www.uni-marburg.de/de/aktuelles/events/termine-2-quart
 al-2019/wider-den-konstruktivismus\nVortrag im Studium Generale im Sommers
 emester 2019
LAST-MODIFIED:20190517T090927Z
LOCATION:Audimax im Hörsaalgebäude (+2/0010)\, Biegenstraße 14\, 35037 
 Marburg
URL:https://www.uni-marburg.de/de/aktuelles/events/termine-2-quartal-2019/
 wider-den-konstruktivismus
END:VEVENT
BEGIN:VTIMEZONE
TZID:Europe/Berlin
X-LIC-LOCATION:Europe/Berlin
BEGIN:DAYLIGHT
DTSTART:20190331T030000
TZNAME:CEST
TZOFFSETFROM:+0100
TZOFFSETTO:+0200
END:DAYLIGHT
END:VTIMEZONE
END:VCALENDAR
