BEGIN:VCALENDAR
VERSION:2.0
PRODID:-//Plone.org//NONSGML plone.app.event//EN
X-WR-TIMEZONE:Europe/Berlin
BEGIN:VEVENT
SUMMARY:Zwischen Populismus und Faschismus: die radikale Rechte in Europa 
 und den USA
DTSTART;TZID=Europe/Berlin:20190612T201500
DTSTAMP:20260424T042900Z
UID:82c16d0ab5b0461e9b225aacc8f346be@www.uni-marburg.de
ATTENDEE;CN="Prof. Dr. Michael Minkenberg (Europa-Universität Viadrina)";
 ROLE=REQ-PARTICIPANT:Prof. Dr. Michael Minkenberg (Europa-Universität Via
 drina)
CREATED:20190416T133105Z
DESCRIPTION:https://www.uni-marburg.de/de/aktuelles/events/termine-2-quart
 al-2019/zwischen-populismus-und-faschismus\nVortrag im Studium Generale im
  Sommersemester 2019
LAST-MODIFIED:20190607T132738Z
LOCATION:Audimax im Hörsaalgebäude (+2/0010)\, Biegenstraße 14\, 35037 
 Marburg
URL:https://www.uni-marburg.de/de/aktuelles/events/termine-2-quartal-2019/
 zwischen-populismus-und-faschismus
END:VEVENT
BEGIN:VTIMEZONE
TZID:Europe/Berlin
X-LIC-LOCATION:Europe/Berlin
BEGIN:DAYLIGHT
DTSTART:20190331T030000
TZNAME:CEST
TZOFFSETFROM:+0100
TZOFFSETTO:+0200
END:DAYLIGHT
END:VTIMEZONE
END:VCALENDAR
