BEGIN:VCALENDAR
VERSION:2.0
PRODID:-//Plone.org//NONSGML plone.app.event//EN
X-WR-TIMEZONE:Europe/Berlin
BEGIN:VEVENT
SUMMARY:Ausstellungseröffnung "Elisabethbilder in der Spätromantik"
DTSTART;TZID=Europe/Berlin:20220612T113000
DTSTAMP:20260421T165618Z
UID:4926e6297bdf43b5879dc6cd9eb64323@www.uni-marburg.de
ATTENDEE;CN="Prof. Dr. Siegfried Becker, Institut für Europäische Ethnol
 ogie/Kulturwissenschaft";ROLE=REQ-PARTICIPANT:Prof. Dr. Siegfried Becker, 
 Institut für Europäische Ethnologie/Kulturwissenschaft
CREATED:20220602T102610Z
DESCRIPTION:https://www.uni-marburg.de/de/aktuelles/events/termine-2-quart
 al-2022/ausstellungseroeffnung-elisabethbilder\nWie veränderte sich das E
 lisabethbild ausgehend von der Französischen Revolution bis zur Wende zum
  20. Jahrhundert? Eröffnung der Ausstellung mit einem Vortrag von Prof. D
 r. Siegfried Becker
LAST-MODIFIED:20220602T121411Z
LOCATION:Historischer Rathaussaal\, Markt 1\, 35037 Marburg
URL:https://www.uni-marburg.de/de/aktuelles/events/termine-2-quartal-2022/
 ausstellungseroeffnung-elisabethbilder
END:VEVENT
BEGIN:VTIMEZONE
TZID:Europe/Berlin
X-LIC-LOCATION:Europe/Berlin
BEGIN:DAYLIGHT
DTSTART:20220327T030000
TZNAME:CEST
TZOFFSETFROM:+0100
TZOFFSETTO:+0200
END:DAYLIGHT
END:VTIMEZONE
END:VCALENDAR
