BEGIN:VCALENDAR
VERSION:2.0
PRODID:-//Plone.org//NONSGML plone.app.event//EN
X-WR-TIMEZONE:Europe/Berlin
BEGIN:VEVENT
SUMMARY:Ehrenpromotion für Özlem Türeci und Uğur Şahin
DTSTART;TZID=Europe/Berlin:20220512T170000
DTEND;TZID=Europe/Berlin:20220512T200000
DTSTAMP:20260426T002257Z
UID:8c56fc84eb6341628b2cf2353682ab01@www.uni-marburg.de
ATTENDEE;CN="Prof. Dr. Stephan Becker, Direktor des Instituts für Virolog
 ie, UMR, Laudatio";ROLE=REQ-PARTICIPANT:Prof. Dr. Stephan Becker, Direktor
  des Instituts für Virologie, UMR, Laudatio
ATTENDEE;CN="Prof. Dr. med. Vortrag von Prof. Dr. Özlem Türeci (Chief Me
 dical Officer, BioNTech SE) und Prof. Dr. Uğur Şahin (CEO BioNTech SE), 
 Vortrag";ROLE=REQ-PARTICIPANT:Prof. Dr. med. Vortrag von Prof. Dr. Özlem 
 Türeci (Chief Medical Officer, BioNTech SE) und Prof. Dr. Uğur Şahin (C
 EO BioNTech SE), Vortrag
ATTENDEE;CN="Angela Dorn, Hessische Ministerin für Wissenschaft und Kunst
 , Ansprache";ROLE=REQ-PARTICIPANT:Angela Dorn, Hessische Ministerin für W
 issenschaft und Kunst, Ansprache
CREATED:20220509T140611Z
DESCRIPTION:https://www.uni-marburg.de/de/aktuelles/events/termine-2-quart
 al-2022/ehrenpromotion-fuer-oezlem-tuereci-und-ugur-sahin\nDer Fachbereich
  Medizin der Philipps-Universität verleiht Ehrenpromotion für Verdienste
  in der Impfstoffentwicklung gegen COVID-19
LAST-MODIFIED:20220509T140811Z
LOCATION:Auditorium des Klinikums\; Online: https://yve.tv/ehrenpromotion-
 biontech
URL:https://www.uni-marburg.de/de/aktuelles/events/termine-2-quartal-2022/
 ehrenpromotion-fuer-oezlem-tuereci-und-ugur-sahin
END:VEVENT
BEGIN:VTIMEZONE
TZID:Europe/Berlin
X-LIC-LOCATION:Europe/Berlin
BEGIN:DAYLIGHT
DTSTART:20220327T030000
TZNAME:CEST
TZOFFSETFROM:+0100
TZOFFSETTO:+0200
END:DAYLIGHT
END:VTIMEZONE
END:VCALENDAR
